BEGIN:VCALENDAR
PRODID:-//Calendar export
VERSION:2.0
X-WR-TIMEZONE:Etc/GMT
BEGIN:VTIMEZONE
TZID:GMT Standard Time
BEGIN:STANDARD
TZOFFSETFROM:+0000
TZOFFSETTO:+0000
END:STANDARD
END:VTIMEZONE
BEGIN:VEVENT
UID:AE4010
DTSTAMP:20260423T094500Z
SUMMARY:Tim Hortons Smile Cookie Campaign 2026
CLASS:PUBLIC
DESCRIPTION:We are honored to have been chosen as a recipient of this y
 ear's Tim Hort
 ons Smile Cookie Campaign.\\n\\n \\n\\n \\n\\n 
STATUS:CONFIRMED
PRIORITY:1
DTSTART:20260427T060000Z
DTEND:20260504T055900Z
TRANSP:OPAQUE
END:VEVENT
END:VCALENDAR
